BEGIN:VCALENDAR
VERSION:2.0
PRODID:-//events-bot//RU
CALSCALE:GREGORIAN
METHOD:PUBLISH
X-WR-CALNAME:kenigevents
BEGIN:VEVENT
UID:0370a8d5-1fa1-4c36-8682-5e1369331684@3514
DTSTAMP:20260401T105834Z
DTSTART:20260405T130000
DTEND:20260405T180000
SUMMARY:Бесплатная игротека в ТЦ «МЕГА» в ТЦ
  «МЕГА»
DESCRIPTION:В ТЦ «МЕГА» пройдёт игротека с огр
 омным выбором настольных игр 🎲. Меропри
 ятие подойдёт для весенней встречи с дру
 зьями.\n\n### Игровой ассортимент\n- Предста
 влен огромный выбор настольных игр.\n- Иг
 ры доступны для любой компании и возраст
 а.\n\n### Для компании и возраста\nИгры пред
 ставлены для любой компании и возраста. 
 Мероприятие создаёт возможность интере
 сно провести время.\n\nhttps://t.me/kulturnaya_chaika/7495
LOCATION:Генерал-лейтенанта Озерова 17Б\,Кали
 нинград
URL:https://t.me/kulturnaya_chaika/7495
END:VEVENT
END:VCALENDAR
